BEGIN:VCALENDAR
VERSION:2.0
PRODID:-//Cetronia Ambulance Corps - ECPv6.15.20//NONSGML v1.0//EN
CALSCALE:GREGORIAN
METHOD:PUBLISH
X-WR-CALNAME:Cetronia Ambulance Corps
X-ORIGINAL-URL:https://www.cetronia.org
X-WR-CALDESC:Events for Cetronia Ambulance Corps
REFRESH-INTERVAL;VALUE=DURATION:PT1H
X-Robots-Tag:noindex
X-PUBLISHED-TTL:PT1H
BEGIN:VTIMEZONE
TZID:UTC
BEGIN:STANDARD
TZOFFSETFROM:+0000
TZOFFSETTO:+0000
TZNAME:UTC
DTSTART:20230101T000000
END:STANDARD
END:VTIMEZONE
BEGIN:VEVENT
DTSTART;TZID=UTC:20240708T080000
DTEND;TZID=UTC:20240708T160000
DTSTAMP:20260421T133059
CREATED:20240119T155752Z
LAST-MODIFIED:20240322T153403Z
UID:5048-1720425600-1720454400@www.cetronia.org
SUMMARY:National Registry Accelerated EMT Course - Summer 2024
DESCRIPTION:Course Dates: July 8-12\, July 15-19\, July 22-26\, July 29- Aug 2; Monday thru Friday (08:00 – 16:00)\nThe course is $2\,000. Full payment is due with registration. \nRegister Here \nClass will be held in the LVHN Community Education Center at Cetronia Ambulance Corps \nCourse includes: \n\n12th Edition Emergency Care and Transportation of the Sick and Injured\nAHA CPR/AED certification\nNREMT Voucher for Cognitive Exam\nEVDT/EMSVO\nVehicle Extrication\nMass Casualty Drill\nALS Assist\nObservation time with crews\nT-shirt\nEVOC\n\nStudents must:\nBe at least 16 years of age\nHave current health physical\nHave a current drivers license \nSeating is limited. Class will be a maximum of 15 students. \n  \nCetronia Ambulance Corps is officially recognized by the U.S. Department of Veterans Affairs (VA) as a school for Emergency Medical Technicians (EMTs) with VA Education Benefits offered through the GI Bill®.
URL:https://www.cetronia.org/event/national-registry-emt-course-summer-2024/
LOCATION:Cetronia Ambulance Corps\, 4300 Broadway\, Allentown\, PA\, 18104\, United States
CATEGORIES:Classes & Courses
ATTACH;FMTTYPE=image/jpeg:https://www.cetronia.org/wp-content/uploads/2023/08/IMG_3537-6-e1691699475724.jpg
ORGANIZER;CN="Cetronia Ambulance Corps":MAILTO:caceducation@cetronia.org
END:VEVENT
END:VCALENDAR