BEGIN:VCALENDAR
VERSION:2.0
PRODID:-//Cetronia Ambulance Corps - ECPv6.15.20//NONSGML v1.0//EN
CALSCALE:GREGORIAN
METHOD:PUBLISH
X-WR-CALNAME:Cetronia Ambulance Corps
X-ORIGINAL-URL:https://www.cetronia.org
X-WR-CALDESC:Events for Cetronia Ambulance Corps
REFRESH-INTERVAL;VALUE=DURATION:PT1H
X-Robots-Tag:noindex
X-PUBLISHED-TTL:PT1H
BEGIN:VTIMEZONE
TZID:UTC
BEGIN:STANDARD
TZOFFSETFROM:+0000
TZOFFSETTO:+0000
TZNAME:UTC
DTSTART:20250101T000000
END:STANDARD
END:VTIMEZONE
BEGIN:VEVENT
DTSTART;TZID=UTC:20260110T110000
DTEND;TZID=UTC:20260110T133000
DTSTAMP:20260422T013130
CREATED:20251118T195951Z
LAST-MODIFIED:20251118T200052Z
UID:10000391-1768042800-1768051800@www.cetronia.org
SUMMARY:AHA BLS CPR Certification Class
DESCRIPTION:Saturday\, January 10th\, 2026 from 11:00a.m. – 01:30p.m. \nGet certified in Basic Life Support (BLS) CPR with Cetronia Ambulance Corps! This comprehensive certification course covers adult\, child\, and infant CPR\, AED use\, and foreign body airway obstruction. Please note that First Aid is not included in this course. \nThe class fee is $60. For more information please contact Cetronia’s Education Department at caceducation@cetronia.org. \nRegister
URL:https://www.cetronia.org/event/aha-bls-cpr-certification-class-jan10-2026/
LOCATION:Cetronia Ambulance Corps\, 4300 Broadway\, Allentown\, PA\, 18104\, United States
CATEGORIES:Classes & Courses
ORGANIZER;CN="Cetronia Ambulance Corps":MAILTO:caceducation@cetronia.org
END:VEVENT
BEGIN:VEVENT
DTSTART;TZID=UTC:20260114T110000
DTEND;TZID=UTC:20260114T133000
DTSTAMP:20260422T013130
CREATED:20251118T200240Z
LAST-MODIFIED:20251118T200329Z
UID:10000392-1768388400-1768397400@www.cetronia.org
SUMMARY:AHA BLS CPR Certification Class
DESCRIPTION:Wednesday\, January 14th\, 2026 from 11:00a.m. – 01:30p.m. \nGet certified in Basic Life Support (BLS) CPR with Cetronia Ambulance Corps! This comprehensive certification course covers adult\, child\, and infant CPR\, AED use\, and foreign body airway obstruction. Please note that First Aid is not included in this course. \nThe class fee is $60. For more information please contact Cetronia’s Education Department at caceducation@cetronia.org. \nRegister
URL:https://www.cetronia.org/event/aha-bls-cpr-certification-class-jan14-2026/
LOCATION:Cetronia Ambulance Corps\, 4300 Broadway\, Allentown\, PA\, 18104\, United States
CATEGORIES:Classes & Courses
ORGANIZER;CN="Cetronia Ambulance Corps":MAILTO:caceducation@cetronia.org
END:VEVENT
END:VCALENDAR