BEGIN:VCALENDAR
VERSION:2.0
PRODID:-//Cetronia Ambulance Corps - ECPv6.15.20//NONSGML v1.0//EN
CALSCALE:GREGORIAN
METHOD:PUBLISH
X-WR-CALNAME:Cetronia Ambulance Corps
X-ORIGINAL-URL:https://www.cetronia.org
X-WR-CALDESC:Events for Cetronia Ambulance Corps
REFRESH-INTERVAL;VALUE=DURATION:PT1H
X-Robots-Tag:noindex
X-PUBLISHED-TTL:PT1H
BEGIN:VTIMEZONE
TZID:UTC
BEGIN:STANDARD
TZOFFSETFROM:+0000
TZOFFSETTO:+0000
TZNAME:UTC
DTSTART:20240101T000000
END:STANDARD
END:VTIMEZONE
BEGIN:VEVENT
DTSTART;TZID=UTC:20250723T090000
DTEND;TZID=UTC:20250723T110000
DTSTAMP:20260422T000418
CREATED:20250428T142652Z
LAST-MODIFIED:20250618T192123Z
UID:10000356-1753261200-1753268400@www.cetronia.org
SUMMARY:AHA BLS CPR Re-Certification
DESCRIPTION:Renew your BLS CPR certification with Cetronia Ambulance Corps! This re-certification course incorporates the 2020 AHA Guidelines. Designed for healthcare providers (Nurses\, Physicians\, Nursing Assistants\, Home Health Aids\, EMTs\, Paramedics) the course covers adult\, child and infant 1 & 2 rescuer CPR\, Automated External Defibrillation (AED) and foreign body airway obstruction. \nFor more information please contact Cetronia’s Education Department at caceducation@cetronia.org \nMust provide CURRENT BLS CPR card to attend class.  \nThe class is $55. Full payment is due with registration. \nRegister Here
URL:https://www.cetronia.org/event/aha-bls-cpr-re-certification-july232025/
LOCATION:Cetronia Ambulance Corps\, 4300 Broadway\, Allentown\, PA\, 18104\, United States
CATEGORIES:Classes & Courses
ORGANIZER;CN="Cetronia Ambulance Corps":MAILTO:caceducation@cetronia.org
END:VEVENT
BEGIN:VEVENT
DTSTART;TZID=UTC:20250726T090000
DTEND;TZID=UTC:20250726T110000
DTSTAMP:20260422T000418
CREATED:20250428T142809Z
LAST-MODIFIED:20250428T143015Z
UID:10000357-1753520400-1753527600@www.cetronia.org
SUMMARY:AHA BLS CPR Re-Certification
DESCRIPTION:Renew your BLS CPR certification with Cetronia Ambulance Corps! This re-certification course incorporates the 2020 AHA Guidelines. Designed for healthcare providers (Nurses\, Physicians\, Nursing Assistants\, Home Health Aids\, EMTs\, Paramedics) the course covers adult\, child and infant 1 & 2 rescuer CPR\, Automated External Defibrillation (AED) and foreign body airway obstruction. \nFor more information please contact Cetronia’s Education Department at caceducation@cetronia.org \nMust provide CURRENT BLS CPR card to attend class.  \nThe class is $55. Full payment is due with registration. \nRegister Here
URL:https://www.cetronia.org/event/aha-bls-cpr-re-certification-july262025/
LOCATION:Cetronia Ambulance Corps\, 4300 Broadway\, Allentown\, PA\, 18104\, United States
CATEGORIES:Classes & Courses
ORGANIZER;CN="Cetronia Ambulance Corps":MAILTO:caceducation@cetronia.org
END:VEVENT
END:VCALENDAR