BEGIN:VCALENDAR
VERSION:2.0
PRODID:-//Cetronia Ambulance Corps - ECPv6.15.20//NONSGML v1.0//EN
CALSCALE:GREGORIAN
METHOD:PUBLISH
X-WR-CALNAME:Cetronia Ambulance Corps
X-ORIGINAL-URL:https://www.cetronia.org
X-WR-CALDESC:Events for Cetronia Ambulance Corps
REFRESH-INTERVAL;VALUE=DURATION:PT1H
X-Robots-Tag:noindex
X-PUBLISHED-TTL:PT1H
BEGIN:VTIMEZONE
TZID:UTC
BEGIN:STANDARD
TZOFFSETFROM:+0000
TZOFFSETTO:+0000
TZNAME:UTC
DTSTART:20240101T000000
END:STANDARD
END:VTIMEZONE
BEGIN:VEVENT
DTSTART;TZID=UTC:20251028T170000
DTEND;TZID=UTC:20251028T200000
DTSTAMP:20260425T195117
CREATED:20250701T200004Z
LAST-MODIFIED:20251029T171404Z
UID:10000367-1761670800-1761681600@www.cetronia.org
SUMMARY:Monster Mini Golf Tournament
DESCRIPTION:Celebrate National First Responders Day with a Spooktacular Night of Fun!\nTuesday\, October 28\, 2025 | Monster Mini Golf Allentown (3227 Hamilton Blvd\, Allentown\, PA 18103) \nPutt your way through an 18-hole\, monster-themed\, glow-in-the-dark mini golf course. Enjoy networking before and after your round\, plus food and drinks (cash bar available)\, arcade games\, and bowling. It’s a frightfully good time for a great cause! \nSchedule:\n5:00 p.m. – Registration\, hors d’oeuvres & networking\n5:45 p.m. – Shotgun start\n7:00 p.m. – Awards & continued networking \nPlayer Package – $35 per player (21+ event) \n\nOne round of mini golf\nHors d’oeuvres\, cash bar & candy bar\nNetworking opportunities\n$15 arcade credit and one round of duckpin bowling\n\n\nThank you to our sponsors: \nAnnual Platinum Sponsor: Lehigh Valley Health Network \nPar Sponsor: People First Federal Credit Union \nBirdie Sponsor: Compleat Restorations
URL:https://www.cetronia.org/event/monster-mini-golf-fundraiser/
LOCATION:Monster Mini Golf\, 3227 Hamilton Blvd\, Allentown\, PA\, 18103\, United States
CATEGORIES:Fundraisers
ATTACH;FMTTYPE=image/png:https://www.cetronia.org/wp-content/uploads/2025/07/mini-golf-website-event-2.png
ORGANIZER;CN="Cetronia Ambulance Corps Special Events":MAILTO:blichark@cetronia.org
END:VEVENT
END:VCALENDAR